BEGIN:VCALENDAR
VERSION:2.0
PRODID:-//pretix//Rhön_Photo_Award//
BEGIN:VEVENT
UID:pretix-rpa-2026-0@pretix.rhoenphotoaward.de
DTSTART;VALUE=DATE:20260401
DTEND;VALUE=DATE:20260621
DESCRIPTION:Tickets: https://pretix.rhoenphotoaward.de/rpa/2026/\nVeranstal
 ter: rhoenphotoaward
DTSTAMP:20260421T155050Z
LOCATION:Wasserkuppe
SUMMARY:Rhön Photo Award
END:VEVENT
END:VCALENDAR
